BEGIN:VCALENDAR
VERSION:2.0
PRODID:-//Fellowship Financial - ECPv5.7.0//NONSGML v1.0//EN
CALSCALE:GREGORIAN
METHOD:PUBLISH
X-WR-CALNAME:Fellowship Financial
X-ORIGINAL-URL:https://fellowshipfinancial.fixedincomecounsel.com
X-WR-CALDESC:Events for Fellowship Financial
BEGIN:VTIMEZONE
TZID:UTC
BEGIN:STANDARD
TZOFFSETFROM:+0000
TZOFFSETTO:+0000
TZNAME:UTC
DTSTART:20190101T000000
END:STANDARD
END:VTIMEZONE
BEGIN:VEVENT
DTSTART;TZID=UTC:20190314T180000
DTEND;TZID=UTC:20190314T200000
DTSTAMP:20260423T095928
CREATED:20190131T181029Z
LAST-MODIFIED:20190131T181029Z
UID:2333-1552586400-1552593600@fellowshipfinancial.fixedincomecounsel.com
SUMMARY:Return on Principle - 2 Course Class: Class 2
DESCRIPTION:Call today to RSVP:407-949-5888 or click HERE to register online!\nAre you confused about the world of investments and worried about your retirement fund in today’s volatile financial market? Well here\nis your chance to learn how – and why – to steer clear of Wall Street “insanity” with conservative investment options that work regardless of market conditions. \nReturn on Principle: A Course Outline \nClass 2 – Getting Real \nBehavioral Investing; Simple\, Not Easy \nRationalized Optimism: ‘This Time is Different’ \nTextbooks vs. Common Sense \nOptions for Consistent Income\, Less Risk \nThe ‘Rules’ of Investing \nIncome Generating Alternatives \nAchieving ‘Fiscal Good Health’ \nDo You Know…? \n*Who benefits by keeping you invested in the stock market?\n* What two emotions guide most people’s investment decisions?\n* When a ‘buy and hold’ strategy does and doesn’t work?\n* Where most financial analysts get their information?\n* Why Wall Street likes to talk about short term market trends?\n* How long a “secular” bear market lasts? \nDo You Want To Know…?\n* Who to turn to for objective financial guidance?\n* What investment tools work regardless of market conditions?\n* When to take some risk and when to play safe?\n* Where to look for conservative non-stock market investment options?\n* Why investing for income is right for today’s economy?\n* How to stop the “financial insanity” and enjoy the retirement you’ve always DREAMED ABOUT? \nCall to Register for the FREE 2 night course \nCall today to RSVP:407-949-5888 or click HERE to register online!
URL:https://fellowshipfinancial.fixedincomecounsel.com/event/return-on-principle-2-course-class-class-2-2
END:VEVENT
END:VCALENDAR